BEGIN:VCALENDAR
VERSION:2.0
PRODID:-//Rozvaha pohybu - ECPv6.15.20//NONSGML v1.0//EN
CALSCALE:GREGORIAN
METHOD:PUBLISH
X-WR-CALNAME:Rozvaha pohybu
X-ORIGINAL-URL:https://www.rozvahapohybu.sk
X-WR-CALDESC:Udalosti pre Rozvaha pohybu
REFRESH-INTERVAL;VALUE=DURATION:PT1H
X-Robots-Tag:noindex
X-PUBLISHED-TTL:PT1H
BEGIN:VTIMEZONE
TZID:Europe/Bratislava
BEGIN:DAYLIGHT
TZOFFSETFROM:+0100
TZOFFSETTO:+0200
TZNAME:CEST
DTSTART:20250330T010000
END:DAYLIGHT
BEGIN:STANDARD
TZOFFSETFROM:+0200
TZOFFSETTO:+0100
TZNAME:CET
DTSTART:20251026T010000
END:STANDARD
BEGIN:DAYLIGHT
TZOFFSETFROM:+0100
TZOFFSETTO:+0200
TZNAME:CEST
DTSTART:20260329T010000
END:DAYLIGHT
BEGIN:STANDARD
TZOFFSETFROM:+0200
TZOFFSETTO:+0100
TZNAME:CET
DTSTART:20261025T010000
END:STANDARD
BEGIN:DAYLIGHT
TZOFFSETFROM:+0100
TZOFFSETTO:+0200
TZNAME:CEST
DTSTART:20270328T010000
END:DAYLIGHT
BEGIN:STANDARD
TZOFFSETFROM:+0200
TZOFFSETTO:+0100
TZNAME:CET
DTSTART:20271031T010000
END:STANDARD
END:VTIMEZONE
BEGIN:VEVENT
DTSTART;TZID=Europe/Bratislava:20260515T180000
DTEND;TZID=Europe/Bratislava:20260517T153000
DTSTAMP:20260425T164119
CREATED:20260326T094115Z
LAST-MODIFIED:20260327T112054Z
UID:11080-1778868000-1779031800@www.rozvahapohybu.sk
SUMMARY:Spolutvorenie: Mužský dar a ženský dar
DESCRIPTION:Ahojte priatelia\, \nsrdečne vás pozývame na zážitkový pobyt Spolutvorenie: Mužský dar a ženský dar na Prameni Života\, ktorým vás prevedú Matej Jurenka a Tomáš Mészáros. \nV jurte uprostred rozkvitnutej jarnej prírody vznikne priestor pre vzácnu udalosť. Muži a ženy zložia zbrane a budú spolu tvoriť\, nie bojovať proti sebe. Oslávime jedinečnosť ženstva\, mužstva\, ale aj špecifickú individualitu každého jednotlivca. \nRozdiely v našich telách\, myšlienkach\, potrebách a túžbach sa naučíme rozpoznať ako dary. Dary\, ktoré sú hodné obdivu\, rešpektu a vedomého prepájania do niečoho väčšieho\, než dokáže vytvoriť každý sám. \nPohľadáme hlbšie spojenie so sebou a väčšiu úctu ku kvalitám krásnej ženskej energie a krásnej mužskej energie. \nPreskúmame\, čo sa stane\, keď sa rozdielnosť nestane dôvodom k boju\, ale základom spolupráce\, povzbudivej komunikácie\, úcty\, príťažlivosti a spolutvorenia. \nBudeme sa dotýkať aj týchto tém: \n– dary mužského a ženského princípu\,\n– intuícia a exekúcia\,\n– ako láskavejšie komunikovať\,\n– vnútorná polarita srdca a panvy\,\n– polarita medzi mužom a ženou\,\n– sebahodnota a dobrí chlapci / dobré dievčatá\,\n– ako viesť a ako plynúť\,\n– spolutvorenie cez rozdielnosť. \nNebude to len o rozprávaní. Aj tentokrát pôjdeme cez zážitok\, telo\, pohyb\, interakciu a priamu skúsenosť. Pretože veci nestačí pochopiť hlavou. Treba ich zažiť\, cítiť a dovoliť im\, aby sa dotkli tela aj srdca. \nČaká nás bezpečný priestor\, v ktorom budeme môcť objavovať\, čo sa stane\, keď muž a žena prestanú bojovať o moc\, prestanú sa zhadzovať alebo napodobňovať\, a začnú si viac vážiť to\, čo každý z nich prináša. \nTento zážitkový pobyt je pre ženy\, mužov aj páry\, ktorí chcú lepšie porozumieť mužsko-ženskej dynamike\, svojim darom a tomu\, ako z rozdielnosti vytvárať viac spojenia\, života a lásky. \nJe jedno\, či si single\, zadaná/ý alebo pár. Príď. \nČo Ťa na pobyte čaká? \n– pohybové cvičenia Rozvahy pohybu\n– hravé interaktívne cvičenia\n– vedené meditácie a dychové techniky\n– besedy a zdieľanie\n– cesta zvukom v sprievode živých netradičných nástrojov\n– prechádzka lesom\n– výborná vegetariánska kuchyňa\n– nové priateľstvá\, nové zručnosti a hlavne nezabudnuteľný zážitok \nZážitkový pobyt Spolutvorenie: Mužský dar a ženský dar v krásnom prostredí prírody ťa nabije energiou\, ale pravdepodobne ti aj zmení život. Ak ťa to volá – prihlás sa čo najskôr. \nDátum: 15. – 17. máj \nCena: 330 eur (zahŕňa lektorné\, stravu\, ubytovanie a všetky aktivity) \nMiesto: centrum Prameň Života (blízko obce Lovinobaňa) \nPrihlásenie na odkaze: https://www.rozvahapohybu.sk/prihlasenie-na-podujatie \nKto je Tomáš? \nSom muž\, ktorý venuje hlbokú pozornosť vzťahom a vedomej sexualite. Nie som odborník ani terapeut. \nSom muž\, ktorému sa vo vzťahoch opakoval rovnaký vzorec. Začiatky boli silné\, všetko išlo samo\, bola tam príťažlivosť\, trpezlivosť\, neha a spojenie. No neskôr vyprchala počiatočná zamilovanosť nového vzťahu a prišli problémy. Túžba klesala\, stúpalo napätie. Intímne rozhovory a dotyky mizli. Vzťah ostal bez života – mechanika\, rutina\, slabé spojenie. Z pekných vecí sa stali nepekné\, až tie vzťahy umreli úplne. A toto ma neskutočne hnevalo. \nStal som sa študentom vedomých vzťahov a podarilo sa mi spraviť niekoľko krokov k vyživenejšiemu vzťahu a životu. \nTeraz pomáham mužom a ženám vykročiť k živým a láskavým vzťahom spolu so mnou. \nKto je Matej? \nMatej Jurenka je majster hatha jogy\, sprievodca duše\, liečiteľ\, zakladateľ Rozvahy pohybu a šíriteľ prírodného duchovna. Venuje sa tiež hudobnej terapii\, meditácii\, psychológii\, otužovaniu\, skúmaniu ľudskej podstaty i skúmaniu vedomia. Od roku 2014 žije Matej v lesoch na strednom Slovensku\, kde rozvíja a spravuje centrum Prameň Života. \nČo je Rozvaha pohybu? \nMetóda Rozvaha pohybu je nedogmatickou metódou založenou na myšlienke sebarozvoja skrze vlastné telo. Kombinuje prvky jogy\, kalisteniky\, akrobacie\, tanca a bojových umení. Zároveň však vychádza z vyše 20 ročnej pohybovej praxe jej zakladateľa Mateja Jurenku. Prejavom Rozvahy pohybu je správny postoj\, zdravie\, radosť\, ladnosť a rozpúšťanie obmedzení v súlade so svojou silou a citom. \nTešíme sa na spoločné zdieľanie!
URL:https://www.rozvahapohybu.sk/podujatia/spolutvorenie-muzsky-dar-a-zensky-dar/
CATEGORIES:15. - 17. máj,Prameň Života
ATTACH;FMTTYPE=image/jpeg:https://www.rozvahapohybu.sk/wp-content/uploads/2026/03/IMG-20260325-WA0006.jpg
END:VEVENT
END:VCALENDAR